BEGIN:VCALENDAR
VERSION:2.0
PRODID:-//wp-events-plugin.com//6.4.6.4//EN
TZID:Europe/Berlin
X-WR-TIMEZONE:Europe/Berlin
BEGIN:VEVENT
UID:14@smartvillage-wnd.de
DTSTART;TZID=Europe/Berlin:20240127T100000
DTEND;TZID=Europe/Berlin:20240127T140000
DTSTAMP:20240119T100601Z
URL:https://smartvillage-wnd.de/events/faschingsgebaeck-aus-blaetterteig-2
 7-01-%f0%9f%a5%b3%f0%9f%a7%81/
SUMMARY:Faschingsgebäck aus Blätterteig (27.01) 🥳🧁
DESCRIPTION:Allez Hopp und Helau! 🥳\n\nHier kommt die Ankündigung\, auf
  die alle Liebhaber von Leckerem Gebäck gewartet haben! Am Samstag\, den 
 27.01.2024\, um 10:00 Uhr\, findet der ultimative Faschingsgebäck-Worksho
 p im Sozial-Pflegerischen Bereich der Dr. Walter-Bruch-Schule statt. Die W
 irtschaftsförderungsgesellschaft St. Wendeler Land mbH hat in Kooperation
  mit der Bäckermeisterin Jutta Klos diesen Workshop organisiert.\n\nLass 
 dich von Frau Klos in die Welt des Backens entführen und lerne\, wie man 
 köstliches Faschingsgebäck aus Blätterteig zaubert. Ob Pudding\, Obst\,
  Nussfüllung oder herzhafte Varianten mit Fleisch und Käse - hier wird f
 ür jeden Geschmack etwas dabei sein. Verpasse nicht die Chance\, deine Ba
 ckkünste zu verbessern und anschließend die verzaubernden Leckereien zu 
 genießen.\n\nAlso\, worauf wartest du noch? Melde dich jetzt an und lass 
 dich von diesem Workshop in eine kulinarische Welt voller Süßes und Herz
 haftes entführen! Wir freuen uns auf einen unvergesslichen Tag mit dir.\n
 \nDie Teilnahmegebühr besträgt 60\,- € pro Person und beinhaltet den k
 ompletten Workshop\, sowie die Leckereinen\, die du mitnehmen kannst.\n\n 
 	Melde Dich über folgenden Link an\, solange es noch Plätze gibt: https:
 //eveeno.com/faschingsgebaeck\n
ATTACH;FMTTYPE=image/jpeg:https://smartvillage-wnd.de/wp-content/uploads/2
 024/01/Workshopplan-1000-x-300-px.png
LOCATION:Dr.-Walter-Bruch-Schule Sozialpflegerischer Bereich\, Wendelinusst
 raße 26\, St. Wendel\, Saarland\, 66606\, Deutschland
X-APPLE-STRUCTURED-LOCATION;VALUE=URI;X-ADDRESS=Wendelinusstraße 26\, St. 
 Wendel\, Saarland\, 66606\, Deutschland;X-APPLE-RADIUS=100;X-TITLE=Dr.-Wal
 ter-Bruch-Schule Sozialpflegerischer Bereich:geo:0,0
END:VEVENT
BEGIN:VTIMEZONE
TZID:Europe/Berlin
X-LIC-LOCATION:Europe/Berlin
BEGIN:STANDARD
DTSTART:20231029T020000
TZOFFSETFROM:+0200
TZOFFSETTO:+0100
TZNAME:CET
END:STANDARD
END:VTIMEZONE
END:VCALENDAR